BEGIN:VCALENDAR
VERSION:2.0
PRODID:-//Kopernik Observatory &amp; Science Center - ECPv6.15.20//NONSGML v1.0//EN
CALSCALE:GREGORIAN
METHOD:PUBLISH
X-WR-CALNAME:Kopernik Observatory &amp; Science Center
X-ORIGINAL-URL:https://www.kopernik.org
X-WR-CALDESC:Events for Kopernik Observatory &amp; Science Center
REFRESH-INTERVAL;VALUE=DURATION:PT1H
X-Robots-Tag:noindex
X-PUBLISHED-TTL:PT1H
BEGIN:VTIMEZONE
TZID:America/New_York
BEGIN:DAYLIGHT
TZOFFSETFROM:-0500
TZOFFSETTO:-0400
TZNAME:EDT
DTSTART:20250309T070000
END:DAYLIGHT
BEGIN:STANDARD
TZOFFSETFROM:-0400
TZOFFSETTO:-0500
TZNAME:EST
DTSTART:20251102T060000
END:STANDARD
BEGIN:DAYLIGHT
TZOFFSETFROM:-0500
TZOFFSETTO:-0400
TZNAME:EDT
DTSTART:20260308T070000
END:DAYLIGHT
BEGIN:STANDARD
TZOFFSETFROM:-0400
TZOFFSETTO:-0500
TZNAME:EST
DTSTART:20261101T060000
END:STANDARD
BEGIN:DAYLIGHT
TZOFFSETFROM:-0500
TZOFFSETTO:-0400
TZNAME:EDT
DTSTART:20270314T070000
END:DAYLIGHT
BEGIN:STANDARD
TZOFFSETFROM:-0400
TZOFFSETTO:-0500
TZNAME:EST
DTSTART:20271107T060000
END:STANDARD
END:VTIMEZONE
BEGIN:VEVENT
DTSTART;TZID=America/New_York:20260314T103000
DTEND;TZID=America/New_York:20260314T120000
DTSTAMP:20260423T192224
CREATED:20260120T022107Z
LAST-MODIFIED:20260212T203019Z
UID:10000009-1773484200-1773489600@www.kopernik.org
SUMMARY:KoperniKids: Geology Rocks
DESCRIPTION:Registration Required \n\n\n\nChildren will put their observation skills to the test as they explore rocks\, soil\, and water. They’ll examine a variety of rocks up close\, discover what happens when rocks get wet\, and investigate which materials sink or float. It’s a hands-on adventure full of discovery and fun! \n\n\n\nKoperniKids is a kid-friendly approach to Science\, Technology\, Engineering\, and Math (STEM)\, designed for children 3 to 6 years old. Each session will offer fun\, hands-on learning with a different set of activities\, experiments\, and songs that will encourage your child to participate in the wonderful world of STEM!
URL:https://www.kopernik.org/program/kopernikids-geology-rocks/
LOCATION:Kopernik Observatory & Science Center\, 698 Underwood Rd.\, Vestal\, NY\, 13850\, United States
CATEGORIES:Classes
ATTACH;FMTTYPE=image/jpeg:https://www.kopernik.org/wp-content/uploads/2026/01/Geology-Rocks-Wide.jpg
END:VEVENT
END:VCALENDAR