BEGIN:VCALENDAR
VERSION:2.0
PRODID:-//Kopernik Observatory &amp; Science Center - ECPv6.15.20//NONSGML v1.0//EN
CALSCALE:GREGORIAN
METHOD:PUBLISH
X-WR-CALNAME:Kopernik Observatory &amp; Science Center
X-ORIGINAL-URL:https://www.kopernik.org
X-WR-CALDESC:Events for Kopernik Observatory &amp; Science Center
REFRESH-INTERVAL;VALUE=DURATION:PT1H
X-Robots-Tag:noindex
X-PUBLISHED-TTL:PT1H
BEGIN:VTIMEZONE
TZID:America/New_York
BEGIN:DAYLIGHT
TZOFFSETFROM:-0500
TZOFFSETTO:-0400
TZNAME:EDT
DTSTART:20250309T070000
END:DAYLIGHT
BEGIN:STANDARD
TZOFFSETFROM:-0400
TZOFFSETTO:-0500
TZNAME:EST
DTSTART:20251102T060000
END:STANDARD
BEGIN:DAYLIGHT
TZOFFSETFROM:-0500
TZOFFSETTO:-0400
TZNAME:EDT
DTSTART:20260308T070000
END:DAYLIGHT
BEGIN:STANDARD
TZOFFSETFROM:-0400
TZOFFSETTO:-0500
TZNAME:EST
DTSTART:20261101T060000
END:STANDARD
BEGIN:DAYLIGHT
TZOFFSETFROM:-0500
TZOFFSETTO:-0400
TZNAME:EDT
DTSTART:20270314T070000
END:DAYLIGHT
BEGIN:STANDARD
TZOFFSETFROM:-0400
TZOFFSETTO:-0500
TZNAME:EST
DTSTART:20271107T060000
END:STANDARD
END:VTIMEZONE
BEGIN:VEVENT
DTSTART;TZID=America/New_York:20260401T170000
DTEND;TZID=America/New_York:20260401T190000
DTSTAMP:20260423T200221
CREATED:20260401T173538Z
LAST-MODIFIED:20260401T173553Z
UID:10000026-1775062800-1775070000@www.kopernik.org
SUMMARY:Humanity Returns to the Moon - Artemis II Launch Watch Party
DESCRIPTION:After 54 years\, NASA is returning astronauts to the Moon with Artemis II. In 2022\, NASA launched Artemis I—an uncrewed mission designed to test the Space Launch System rocket and Orion Spacecraft. Now\, the Artemis II test flight will send astronauts Reid Wiseman\, Victor Glover\, Christina Koch\, & Jeremy Hansen on a 10-day mission out to and around the Moon. Their first steps back to the Moon will usher in a giant leap for humanity as NASA prepares for a long-term moon base and missions that will take humans beyond Earth’s orbit. Artemis II is scheduled to launch during a two-hour window starting at 6:24 PM EDT on April 1st. Join us as we discuss this historic mission and give you an overview of the Artemis program. As launch time approaches\, we’ll tun into the NASA livestream to see the Artemis II crew take to the skies!
URL:https://www.kopernik.org/program/humanity-returns-to-the-moon-artemis-ii-launch-watch-party/
LOCATION:https://www.kopernik.org/program/humanity-returns-to-the-moon-artemis-ii-launch-watch-party/
CATEGORIES:Livestreams
ATTACH;FMTTYPE=image/jpeg:https://www.kopernik.org/wp-content/uploads/2026/04/Artemis-II-Launch.jpg
END:VEVENT
END:VCALENDAR