BEGIN:VCALENDAR
VERSION:2.0
PRODID:-//Kopernik Observatory &amp; Science Center - ECPv6.15.20//NONSGML v1.0//EN
CALSCALE:GREGORIAN
METHOD:PUBLISH
X-WR-CALNAME:Kopernik Observatory &amp; Science Center
X-ORIGINAL-URL:https://www.kopernik.org
X-WR-CALDESC:Events for Kopernik Observatory &amp; Science Center
REFRESH-INTERVAL;VALUE=DURATION:PT1H
X-Robots-Tag:noindex
X-PUBLISHED-TTL:PT1H
BEGIN:VTIMEZONE
TZID:America/New_York
BEGIN:DAYLIGHT
TZOFFSETFROM:-0500
TZOFFSETTO:-0400
TZNAME:EDT
DTSTART:20250309T070000
END:DAYLIGHT
BEGIN:STANDARD
TZOFFSETFROM:-0400
TZOFFSETTO:-0500
TZNAME:EST
DTSTART:20251102T060000
END:STANDARD
BEGIN:DAYLIGHT
TZOFFSETFROM:-0500
TZOFFSETTO:-0400
TZNAME:EDT
DTSTART:20260308T070000
END:DAYLIGHT
BEGIN:STANDARD
TZOFFSETFROM:-0400
TZOFFSETTO:-0500
TZNAME:EST
DTSTART:20261101T060000
END:STANDARD
BEGIN:DAYLIGHT
TZOFFSETFROM:-0500
TZOFFSETTO:-0400
TZNAME:EDT
DTSTART:20270314T070000
END:DAYLIGHT
BEGIN:STANDARD
TZOFFSETFROM:-0400
TZOFFSETTO:-0500
TZNAME:EST
DTSTART:20271107T060000
END:STANDARD
END:VTIMEZONE
BEGIN:VEVENT
DTSTART;TZID=America/New_York:20260313T200000
DTEND;TZID=America/New_York:20260313T210000
DTSTAMP:20260423T185415
CREATED:20260306T175816Z
LAST-MODIFIED:20260310T233813Z
UID:10000013-1773432000-1773435600@www.kopernik.org
SUMMARY:Spring Skies - Night Sky Observing This Season
DESCRIPTION:The Spring equinox occurs at 10:46 AM on March 20. Now that we are officially entering Springtime\, learn how to identify constellations and planets in the spring sky\, and how to spot the International Space Station. Free star maps will be provided. If you have your own telescope\, bring it with you and a Kopernik Astronomical Society member will help you learn how to assemble it and use it. After the program\, head outside to view the night sky through Kopernik’s telescopes.
URL:https://www.kopernik.org/program/spring-skies-night-sky-observing-this-season/
LOCATION:Kopernik Observatory & Science Center\, 698 Underwood Rd.\, Vestal\, NY\, 13850\, United States
CATEGORIES:Public Programs
ATTACH;FMTTYPE=image/jpeg:https://www.kopernik.org/wp-content/uploads/2026/03/Spring-Skies-2026.jpg
END:VEVENT
BEGIN:VEVENT
DTSTART;TZID=America/New_York:20260320T200000
DTEND;TZID=America/New_York:20260320T210000
DTSTAMP:20260423T185415
CREATED:20260306T182458Z
LAST-MODIFIED:20260317T060136Z
UID:10000014-1774036800-1774040400@www.kopernik.org
SUMMARY:Friendly Neighborhood Engineers Helping NASA Back to the Moon
DESCRIPTION:The Southern Tier has a long history of support for the space program. Engineers at Owego’s Lockheed Martin are contributing to the Artemis 2 mission to the moon. Come learn about NASA’s latest mission to return humans to the Moon and how local engineers are making that happen.
URL:https://www.kopernik.org/program/friendly-neighborhood-engineers-helping-nasa-back-to-the-moon/
LOCATION:Kopernik Observatory & Science Center\, 698 Underwood Rd.\, Vestal\, NY\, 13850\, United States
CATEGORIES:Public Programs
ATTACH;FMTTYPE=image/jpeg:https://www.kopernik.org/wp-content/uploads/2026/03/Back-to-the-Moon.jpg
END:VEVENT
END:VCALENDAR