BEGIN:VCALENDAR
VERSION:2.0
PRODID:-//Kopernik Observatory &amp; Science Center - ECPv6.15.20//NONSGML v1.0//EN
CALSCALE:GREGORIAN
METHOD:PUBLISH
X-WR-CALNAME:Kopernik Observatory &amp; Science Center
X-ORIGINAL-URL:https://www.kopernik.org
X-WR-CALDESC:Events for Kopernik Observatory &amp; Science Center
REFRESH-INTERVAL;VALUE=DURATION:PT1H
X-Robots-Tag:noindex
X-PUBLISHED-TTL:PT1H
BEGIN:VTIMEZONE
TZID:America/New_York
BEGIN:DAYLIGHT
TZOFFSETFROM:-0500
TZOFFSETTO:-0400
TZNAME:EDT
DTSTART:20240310T070000
END:DAYLIGHT
BEGIN:STANDARD
TZOFFSETFROM:-0400
TZOFFSETTO:-0500
TZNAME:EST
DTSTART:20241103T060000
END:STANDARD
BEGIN:DAYLIGHT
TZOFFSETFROM:-0500
TZOFFSETTO:-0400
TZNAME:EDT
DTSTART:20250309T070000
END:DAYLIGHT
BEGIN:STANDARD
TZOFFSETFROM:-0400
TZOFFSETTO:-0500
TZNAME:EST
DTSTART:20251102T060000
END:STANDARD
BEGIN:DAYLIGHT
TZOFFSETFROM:-0500
TZOFFSETTO:-0400
TZNAME:EDT
DTSTART:20260308T070000
END:DAYLIGHT
BEGIN:STANDARD
TZOFFSETFROM:-0400
TZOFFSETTO:-0500
TZNAME:EST
DTSTART:20261101T060000
END:STANDARD
END:VTIMEZONE
BEGIN:VEVENT
DTSTART;TZID=America/New_York:20251212T190000
DTEND;TZID=America/New_York:20251212T200000
DTSTAMP:20260424T001158
CREATED:20251205T203050Z
LAST-MODIFIED:20251205T212202Z
UID:10000003-1765566000-1765569600@www.kopernik.org
SUMMARY:The Star of Bethlehem Revealed Movie
DESCRIPTION:Kopernik has been granted special permission to show the thought-provoking movie Star of Bethlehem Revealed. An unusual star is claimed to have appeared in the sky at the time of the birth of Jesus of Nazareth. This movie is an investigation into the story found in the Biblical Gospel of Matthew about the ‘Star of Bethlehem’. It includes the words of Roman and Jewish historians alongside those of ancient prophets. Come learn about this ancient mystery and draw your own conclusions. Due to copyright restrictions\, this program will not be livestreamed. This is a remastered version of the original movie. If skies permit\, after the program stay to view the Geminids meteor shower.
URL:https://www.kopernik.org/program/the-star-of-bethlehem-revealed-movie/
LOCATION:Kopernik Observatory & Science Center\, 698 Underwood Rd.\, Vestal\, NY\, 13850\, United States
CATEGORIES:Public Programs
ATTACH;FMTTYPE=image/jpeg:https://www.kopernik.org/wp-content/uploads/2019/12/starOfBethlehem.jpg
END:VEVENT
BEGIN:VEVENT
DTSTART;TZID=America/New_York:20251213T190000
DTEND;TZID=America/New_York:20251213T210000
DTSTAMP:20260424T001158
CREATED:20251205T211222Z
LAST-MODIFIED:20251213T111440Z
UID:10000005-1765652400-1765659600@www.kopernik.org
SUMMARY:Geminid Meteor Shower Viewing
DESCRIPTION:The Geminids meteor shower peaks overnight on Dec. 13. The Geminids are active between Dec. 4 to Dec. 20 each year. This year\, the moon is in the last quarter moon and will not interfere too much with Geminids meteor hunting. This meteor shower could produce up to 150 meteors per hour. Along with the meteors\, Saturn\, Jupiter and the Orient Nebula will be visible that evening. This event is Clear Sky Only. Kopernik will be closed if the skies are cloudy. Stay tuned on our website on the day of for an official announcement.
URL:https://www.kopernik.org/program/the-star-of-bethlehem-revealed-movie-3/
LOCATION:Kopernik Observatory & Science Center\, 698 Underwood Rd.\, Vestal\, NY\, 13850\, United States
CATEGORIES:Public Programs
ATTACH;FMTTYPE=image/jpeg:https://www.kopernik.org/wp-content/uploads/2025/12/Geminid-Meteor-Shower.jpg
END:VEVENT
BEGIN:VEVENT
DTSTART;TZID=America/New_York:20251219T190000
DTEND;TZID=America/New_York:20251219T200000
DTSTAMP:20260424T001158
CREATED:20251205T204139Z
LAST-MODIFIED:20251205T212235Z
UID:10000004-1766170800-1766174400@www.kopernik.org
SUMMARY:The Star of Bethlehem Revealed Movie
DESCRIPTION:This is an encore viewing of the movie shown on December 12 \n\n\n\nKopernik has been granted special permission to show the thought-provoking movie Star of Bethlehem Revealed. An unusual star is claimed to have appeared in the sky at the time of the birth of Jesus of Nazareth. This movie is an investigation into the story found in the Biblical Gospel of Matthew about the ‘Star of Bethlehem’. It includes the words of Roman and Jewish historians alongside those of ancient prophets. Come learn about this ancient mystery and draw your own conclusions. Due to copyright restrictions\, this program will not be livestreamed. This is a remastered version of the original movie.
URL:https://www.kopernik.org/program/the-star-of-bethlehem-revealed-movie-2/
LOCATION:Kopernik Observatory & Science Center\, 698 Underwood Rd.\, Vestal\, NY\, 13850\, United States
CATEGORIES:Public Programs
ATTACH;FMTTYPE=image/jpeg:https://www.kopernik.org/wp-content/uploads/2019/12/starOfBethlehem.jpg
END:VEVENT
END:VCALENDAR