BEGIN:VCALENDAR
VERSION:2.0
PRODID:-//Kopernik Observatory &amp; Science Center - ECPv6.15.20//NONSGML v1.0//EN
CALSCALE:GREGORIAN
METHOD:PUBLISH
X-WR-CALNAME:Kopernik Observatory &amp; Science Center
X-ORIGINAL-URL:https://www.kopernik.org
X-WR-CALDESC:Events for Kopernik Observatory &amp; Science Center
REFRESH-INTERVAL;VALUE=DURATION:PT1H
X-Robots-Tag:noindex
X-PUBLISHED-TTL:PT1H
BEGIN:VTIMEZONE
TZID:America/New_York
BEGIN:DAYLIGHT
TZOFFSETFROM:-0500
TZOFFSETTO:-0400
TZNAME:EDT
DTSTART:20250309T070000
END:DAYLIGHT
BEGIN:STANDARD
TZOFFSETFROM:-0400
TZOFFSETTO:-0500
TZNAME:EST
DTSTART:20251102T060000
END:STANDARD
BEGIN:DAYLIGHT
TZOFFSETFROM:-0500
TZOFFSETTO:-0400
TZNAME:EDT
DTSTART:20260308T070000
END:DAYLIGHT
BEGIN:STANDARD
TZOFFSETFROM:-0400
TZOFFSETTO:-0500
TZNAME:EST
DTSTART:20261101T060000
END:STANDARD
BEGIN:DAYLIGHT
TZOFFSETFROM:-0500
TZOFFSETTO:-0400
TZNAME:EDT
DTSTART:20270314T070000
END:DAYLIGHT
BEGIN:STANDARD
TZOFFSETFROM:-0400
TZOFFSETTO:-0500
TZNAME:EST
DTSTART:20271107T060000
END:STANDARD
END:VTIMEZONE
BEGIN:VEVENT
DTSTART;TZID=America/New_York:20260306T200000
DTEND;TZID=America/New_York:20260306T210000
DTSTAMP:20260423T174537
CREATED:20260303T174607Z
LAST-MODIFIED:20260310T234108Z
UID:10000012-1772827200-1772830800@www.kopernik.org
SUMMARY:The Evolution of Virtual Reality Part I - The History of VR
DESCRIPTION:The human experience derives from the senses—they shape our reality. The most powerful trait of our species is that we can communicate our realities to one another. BOOM—a clap of the hands—we have an analogue describing thunder! Draw out a series of lines on a cave wall and we have visual storytelling. By harnessing technology and the senses\, we learned to simulate the world around us—this is the story of virtual reality (VR). In this deep dive into the history of VR\, discover the techniques and technologies that brought us the VR we know today. On May 22nd\, return to KOSC for Part II to explore the present and future of VR and try out our VR Classroom.
URL:https://www.kopernik.org/program/the-evolution-of-virtual-reality-part-i-the-history-of-vr/
LOCATION:Kopernik Observatory & Science Center\, 698 Underwood Rd.\, Vestal\, NY\, 13850\, United States
CATEGORIES:Public Programs
ATTACH;FMTTYPE=image/jpeg:https://www.kopernik.org/wp-content/uploads/2026/03/Evolution-of-VR-scaled.jpg
END:VEVENT
END:VCALENDAR