BEGIN:VCALENDAR
VERSION:2.0
PRODID:-//Kopernik Observatory &amp; Science Center - ECPv6.15.20//NONSGML v1.0//EN
CALSCALE:GREGORIAN
METHOD:PUBLISH
X-ORIGINAL-URL:https://www.kopernik.org
X-WR-CALDESC:Events for Kopernik Observatory &amp; Science Center
REFRESH-INTERVAL;VALUE=DURATION:PT1H
X-Robots-Tag:noindex
X-PUBLISHED-TTL:PT1H
BEGIN:VTIMEZONE
TZID:America/New_York
BEGIN:DAYLIGHT
TZOFFSETFROM:-0500
TZOFFSETTO:-0400
TZNAME:EDT
DTSTART:20250309T070000
END:DAYLIGHT
BEGIN:STANDARD
TZOFFSETFROM:-0400
TZOFFSETTO:-0500
TZNAME:EST
DTSTART:20251102T060000
END:STANDARD
BEGIN:DAYLIGHT
TZOFFSETFROM:-0500
TZOFFSETTO:-0400
TZNAME:EDT
DTSTART:20260308T070000
END:DAYLIGHT
BEGIN:STANDARD
TZOFFSETFROM:-0400
TZOFFSETTO:-0500
TZNAME:EST
DTSTART:20261101T060000
END:STANDARD
BEGIN:DAYLIGHT
TZOFFSETFROM:-0500
TZOFFSETTO:-0400
TZNAME:EDT
DTSTART:20270314T070000
END:DAYLIGHT
BEGIN:STANDARD
TZOFFSETFROM:-0400
TZOFFSETTO:-0500
TZNAME:EST
DTSTART:20271107T060000
END:STANDARD
END:VTIMEZONE
BEGIN:VEVENT
DTSTART;TZID=America/New_York:20260327T200000
DTEND;TZID=America/New_York:20260327T210000
DTSTAMP:20260423T172958
CREATED:20260317T043033Z
LAST-MODIFIED:20260317T043101Z
UID:10000015-1774641600-1774645200@www.kopernik.org
SUMMARY:Using Fossils to Reconstruct Earth’s History
DESCRIPTION:This talk will focus on how we use the fossil record to learn about how Earth has changed across geologic time. By studying fossil record\, we can explore patterns of diversity\, extinctions\, ecology\, biogeography\, and more over the past half billion years on Earth.
URL:https://www.kopernik.org/program/using-fossils-to-reconstruct-earths-history/
LOCATION:Kopernik Observatory & Science Center\, 698 Underwood Rd.\, Vestal\, NY\, 13850\, United States
CATEGORIES:Public Programs
ATTACH;FMTTYPE=image/jpeg:https://www.kopernik.org/wp-content/uploads/2026/03/Using-Fossils.jpg
END:VEVENT
END:VCALENDAR